BEGIN:VCALENDAR
VERSION:2.0
METHOD:PUBLISH
PRODID:-//imacoda.com//SPD-Web-O-Mat//EN
CALSCALE:GREGORIAN
BEGIN:VTIMEZONE
TZID:Europe/Berlin
BEGIN:DAYLIGHT
TZOFFSETFROM:+0100
RRULE:FREQ=YEARLY;BYMONTH=3;BYDAY=-1SU
DTSTART:19810329T020000
TZNAME:MESZ
TZOFFSETTO:+0200
END:DAYLIGHT
BEGIN:STANDARD
TZOFFSETFROM:+0200
RRULE:FREQ=YEARLY;BYMONTH=10;BYDAY=-1SU
DTSTART:19961027T030000
TZNAME:MEZ
TZOFFSETTO:+0100
END:STANDARD
END:VTIMEZONE
BEGIN:VEVENT
UID:20200223T012937Z-00000523536-LULU@www.bayernspd.de
CREATED:20200223T012937Z
LAST-MODIFIED:20200223T013011Z
DTSTAMP:20200223T013011Z
TRANSP:TRANSPARENT
DTSTART;TZID=Europe/Berlin:20200308T190000
DTEND;TZID=Europe/Berlin:20200308T190000
SUMMARY:Wahlkampfabschluss
LOCATION:Pfreimd: Landgraf-Ulrich-Halle
DESCRIPTION:Termin im Web (SPD-Kreisverband Schwandorf-Land):\nhttps://s
 pd-kv-sad.de/termine/?id=523536
END:VEVENT
END:VCALENDAR
